BEGIN:VCALENDAR
VERSION:2.0
PRODID:-//Montluçon Cœur de Ville - ECPv6.2.9//NONSGML v1.0//EN
CALSCALE:GREGORIAN
METHOD:PUBLISH
X-ORIGINAL-URL:https://www.montluconcoeurdeville.org
X-WR-CALDESC:évènements pour Montluçon Cœur de Ville
REFRESH-INTERVAL;VALUE=DURATION:PT1H
X-Robots-Tag:noindex
X-PUBLISHED-TTL:PT1H
BEGIN:VTIMEZONE
TZID:Europe/Paris
BEGIN:DAYLIGHT
TZOFFSETFROM:+0100
TZOFFSETTO:+0200
TZNAME:CEST
DTSTART:20230326T010000
END:DAYLIGHT
BEGIN:STANDARD
TZOFFSETFROM:+0200
TZOFFSETTO:+0100
TZNAME:CET
DTSTART:20231029T010000
END:STANDARD
END:VTIMEZONE
BEGIN:VEVENT
DTSTART;VALUE=DATE:20230723
DTEND;VALUE=DATE:20230724
DTSTAMP:20260423T052949
CREATED:20230228T132159Z
LAST-MODIFIED:20230317T103312Z
UID:2041-1690070400-1690156799@www.montluconcoeurdeville.org
SUMMARY:La course de caisse à savon
DESCRIPTION:La course de caisse à savon du dimanche 23 juillet \nParticipez à la course de savons en consultant le réglement Villageois
URL:https://www.montluconcoeurdeville.org/index.php/event/la-course-de-caisse-a-savon/
LOCATION:Montluçon\, Montluçon\, France
CATEGORIES:Agenda
ATTACH;FMTTYPE=image/gif:https://www.montluconcoeurdeville.org/wp-content/uploads/2023/03/Caisse-a-Savon-23072023.gif
END:VEVENT
END:VCALENDAR