BEGIN:VCALENDAR
VERSION:2.0
PRODID:-//Montluçon Cœur de Ville - ECPv6.2.9//NONSGML v1.0//EN
CALSCALE:GREGORIAN
METHOD:PUBLISH
X-WR-CALNAME:Montluçon Cœur de Ville
X-ORIGINAL-URL:https://www.montluconcoeurdeville.org
X-WR-CALDESC:évènements pour Montluçon Cœur de Ville
REFRESH-INTERVAL;VALUE=DURATION:PT1H
X-Robots-Tag:noindex
X-PUBLISHED-TTL:PT1H
BEGIN:VTIMEZONE
TZID:Europe/Paris
BEGIN:DAYLIGHT
TZOFFSETFROM:+0100
TZOFFSETTO:+0200
TZNAME:CEST
DTSTART:20230326T010000
END:DAYLIGHT
BEGIN:STANDARD
TZOFFSETFROM:+0200
TZOFFSETTO:+0100
TZNAME:CET
DTSTART:20231029T010000
END:STANDARD
END:VTIMEZONE
BEGIN:VEVENT
DTSTART;VALUE=DATE:20231015
DTEND;VALUE=DATE:20231016
DTSTAMP:20260420T124805
CREATED:20230228T132443Z
LAST-MODIFIED:20230301T161341Z
UID:2046-1697328000-1697414399@www.montluconcoeurdeville.org
SUMMARY:Braderie d’Automne
DESCRIPTION:Le dimanche 15 octobre sur le périmètre historique
URL:https://www.montluconcoeurdeville.org/index.php/event/braderie-dautomne/
LOCATION:Secteur Courtais\, Boulevard de Courtais\, Montluçon\, 03100\, France
CATEGORIES:Agenda
ATTACH;FMTTYPE=image/jpeg:https://www.montluconcoeurdeville.org/wp-content/uploads/2023/03/Braderie-de-Montlucon-15102023.jpg
END:VEVENT
BEGIN:VEVENT
DTSTART;VALUE=DATE:20230916
DTEND;VALUE=DATE:20230918
DTSTAMP:20260420T124805
CREATED:20230228T132349Z
LAST-MODIFIED:20230301T161319Z
UID:2044-1694822400-1694995199@www.montluconcoeurdeville.org
SUMMARY:Rassemblement de voitures anciennes
DESCRIPTION:Avec la possibilité d’un rallye auto le dimanche 17
URL:https://www.montluconcoeurdeville.org/index.php/event/rassemblement-de-voitures-anciennes/
LOCATION:Montluçon\, Montluçon\, France
CATEGORIES:Agenda
ATTACH;FMTTYPE=image/jpeg:https://www.montluconcoeurdeville.org/wp-content/uploads/2023/03/Rassemblement-Ancienne-16092023.jpg
END:VEVENT
BEGIN:VEVENT
DTSTART;VALUE=DATE:20230723
DTEND;VALUE=DATE:20230724
DTSTAMP:20260420T124805
CREATED:20230228T132159Z
LAST-MODIFIED:20230317T103312Z
UID:2041-1690070400-1690156799@www.montluconcoeurdeville.org
SUMMARY:La course de caisse à savon
DESCRIPTION:La course de caisse à savon du dimanche 23 juillet \nParticipez à la course de savons en consultant le réglement Villageois
URL:https://www.montluconcoeurdeville.org/index.php/event/la-course-de-caisse-a-savon/
LOCATION:Montluçon\, Montluçon\, France
CATEGORIES:Agenda
ATTACH;FMTTYPE=image/gif:https://www.montluconcoeurdeville.org/wp-content/uploads/2023/03/Caisse-a-Savon-23072023.gif
END:VEVENT
BEGIN:VEVENT
DTSTART;VALUE=DATE:20230713
DTEND;VALUE=DATE:20230714
DTSTAMP:20260420T124805
CREATED:20230228T131927Z
LAST-MODIFIED:20230301T161233Z
UID:2037-1689206400-1689292799@www.montluconcoeurdeville.org
SUMMARY:La Fête de la République
DESCRIPTION:Le 13 juillet sur le thème « musique et culture du monde ».
URL:https://www.montluconcoeurdeville.org/index.php/event/la-fete-de-la-republique/
LOCATION:Secteur République\, Avenue de la République\, Montluçon\, 03100\, France
CATEGORIES:Agenda
ATTACH;FMTTYPE=image/gif:https://www.montluconcoeurdeville.org/wp-content/uploads/2023/03/Fete-de-la-Republique-13072023.gif
END:VEVENT
BEGIN:VEVENT
DTSTART;VALUE=DATE:20230604
DTEND;VALUE=DATE:20230605
DTSTAMP:20260420T124805
CREATED:20230228T131029Z
LAST-MODIFIED:20230317T103213Z
UID:2030-1685836800-1685923199@www.montluconcoeurdeville.org
SUMMARY:Braderie de Montluçon
DESCRIPTION:La Braderie de Juin sur un périmètre réduit le dimanche 4 juin (travaux du pont oblige). \nInscription à la braderie de Montluçon
URL:https://www.montluconcoeurdeville.org/index.php/event/braderie-de-montlucon/
LOCATION:Secteur Courtais\, Boulevard de Courtais\, Montluçon\, 03100\, France
CATEGORIES:Agenda
ATTACH;FMTTYPE=image/gif:https://www.montluconcoeurdeville.org/wp-content/uploads/2023/02/braderie-montlucon.gif
END:VEVENT
END:VCALENDAR