BEGIN:VCALENDAR
VERSION:2.0
PRODID:-//Montluçon Cœur de Ville - ECPv6.2.9//NONSGML v1.0//EN
CALSCALE:GREGORIAN
METHOD:PUBLISH
X-ORIGINAL-URL:https://www.montluconcoeurdeville.org
X-WR-CALDESC:évènements pour Montluçon Cœur de Ville
REFRESH-INTERVAL;VALUE=DURATION:PT1H
X-Robots-Tag:noindex
X-PUBLISHED-TTL:PT1H
BEGIN:VTIMEZONE
TZID:Europe/Paris
BEGIN:DAYLIGHT
TZOFFSETFROM:+0100
TZOFFSETTO:+0200
TZNAME:CEST
DTSTART:20230326T010000
END:DAYLIGHT
BEGIN:STANDARD
TZOFFSETFROM:+0200
TZOFFSETTO:+0100
TZNAME:CET
DTSTART:20231029T010000
END:STANDARD
END:VTIMEZONE
BEGIN:VEVENT
DTSTART;VALUE=DATE:20230604
DTEND;VALUE=DATE:20230605
DTSTAMP:20260423T054037
CREATED:20230228T131029Z
LAST-MODIFIED:20230317T103213Z
UID:2030-1685836800-1685923199@www.montluconcoeurdeville.org
SUMMARY:Braderie de Montluçon
DESCRIPTION:La Braderie de Juin sur un périmètre réduit le dimanche 4 juin (travaux du pont oblige). \nInscription à la braderie de Montluçon
URL:https://www.montluconcoeurdeville.org/index.php/event/braderie-de-montlucon/
LOCATION:Secteur Courtais\, Boulevard de Courtais\, Montluçon\, 03100\, France
CATEGORIES:Agenda
ATTACH;FMTTYPE=image/gif:https://www.montluconcoeurdeville.org/wp-content/uploads/2023/02/braderie-montlucon.gif
END:VEVENT
END:VCALENDAR